BEGIN:VCALENDAR
VERSION:2.0
PRODID:-//Marjory Stoneman Douglas Biscayne Nature Center - ECPv6.15.17.1//NONSGML v1.0//EN
CALSCALE:GREGORIAN
METHOD:PUBLISH
X-WR-CALNAME:Marjory Stoneman Douglas Biscayne Nature Center
X-ORIGINAL-URL:https://biscaynenaturecenter.org
X-WR-CALDESC:Events for Marjory Stoneman Douglas Biscayne Nature Center
REFRESH-INTERVAL;VALUE=DURATION:PT1H
X-Robots-Tag:noindex
X-PUBLISHED-TTL:PT1H
BEGIN:VTIMEZONE
TZID:America/New_York
BEGIN:DAYLIGHT
TZOFFSETFROM:-0500
TZOFFSETTO:-0400
TZNAME:EDT
DTSTART:20230312T070000
END:DAYLIGHT
BEGIN:STANDARD
TZOFFSETFROM:-0400
TZOFFSETTO:-0500
TZNAME:EST
DTSTART:20231105T060000
END:STANDARD
BEGIN:DAYLIGHT
TZOFFSETFROM:-0500
TZOFFSETTO:-0400
TZNAME:EDT
DTSTART:20240310T070000
END:DAYLIGHT
BEGIN:STANDARD
TZOFFSETFROM:-0400
TZOFFSETTO:-0500
TZNAME:EST
DTSTART:20241103T060000
END:STANDARD
BEGIN:DAYLIGHT
TZOFFSETFROM:-0500
TZOFFSETTO:-0400
TZNAME:EDT
DTSTART:20250309T070000
END:DAYLIGHT
BEGIN:STANDARD
TZOFFSETFROM:-0400
TZOFFSETTO:-0500
TZNAME:EST
DTSTART:20251102T060000
END:STANDARD
BEGIN:DAYLIGHT
TZOFFSETFROM:-0500
TZOFFSETTO:-0400
TZNAME:EDT
DTSTART:20260308T070000
END:DAYLIGHT
BEGIN:STANDARD
TZOFFSETFROM:-0400
TZOFFSETTO:-0500
TZNAME:EST
DTSTART:20261101T060000
END:STANDARD
BEGIN:DAYLIGHT
TZOFFSETFROM:-0500
TZOFFSETTO:-0400
TZNAME:EDT
DTSTART:20270314T070000
END:DAYLIGHT
BEGIN:STANDARD
TZOFFSETFROM:-0400
TZOFFSETTO:-0500
TZNAME:EST
DTSTART:20271107T060000
END:STANDARD
END:VTIMEZONE
BEGIN:VEVENT
DTSTART;TZID=America/New_York:20260418T110000
DTEND;TZID=America/New_York:20260418T140000
DTSTAMP:20260424T062941
CREATED:20260408T204700Z
LAST-MODIFIED:20260416T161056Z
UID:10514-1776510000-1776520800@biscaynenaturecenter.org
SUMMARY:POSTPONED! Meet the Artist Opening Reception: Jacqueline Roch
DESCRIPTION:Join our BNC artist in residence Jacqueline Roch as we open her new exhibit\, Botanical Breeze. Layering pastels to create complex colors\, Jacqueline is able to achieve a quality that’s reminiscent of an oil painting. Her work is highly distinctive with bold color choices and contrasts – best described as “tropical realism.” \nRSVP for the reception and stay for the plein aire event immediately following!  All mediums\, all skill levels are welcome to paint out in our vibrant natural environment. \nBoth event are free and open to the public.
URL:https://biscaynenaturecenter.org/calendar/meet-the-artist-opening-reception-jacqueline-roch/
CATEGORIES:ART PROGRAMS,SPECIAL EVENTS
END:VEVENT
BEGIN:VEVENT
DTSTART;TZID=America/New_York:20260411T150000
DTEND;TZID=America/New_York:20260411T170000
DTSTAMP:20260424T062941
CREATED:20260227T200211Z
LAST-MODIFIED:20260227T201718Z
UID:10469-1775919600-1775926800@biscaynenaturecenter.org
SUMMARY:Afternoon Tea for Marjory's Birthday
DESCRIPTION:Join The Miami Woman’s Club and Marjory Stoneman Douglas Biscayne Nature Center to celebrate Marjory’s birthday with afternoon tea. Hats are encouraged and also will be provided.
URL:https://biscaynenaturecenter.org/calendar/afternoon-tea-for-marjorys-birthday/
LOCATION:The Woman’s Club of Miami\, 1737 N Bayshore Dr\, Miami\, FL\, 33132
CATEGORIES:SPECIAL EVENTS
END:VEVENT
BEGIN:VEVENT
DTSTART;TZID=America/New_York:20251116T140000
DTEND;TZID=America/New_York:20251116T160000
DTSTAMP:20260424T062941
CREATED:20250909T150856Z
LAST-MODIFIED:20251111T155858Z
UID:10259-1763301600-1763308800@biscaynenaturecenter.org
SUMMARY:Afternoon with the Author Dafne Heinzmann: Signed Books\, Sparkling Conversation & Sound Healing
DESCRIPTION:Artist Dafne Heinzmann joins us to discuss and sign her new book\, Ethereal Moments.  Not just a collection of photographs — it is a sensory journey\, a meditation on the transformative power of nature and the emotions it evokes. Captured entirely through the lens of her phone\, these images of Key Biscayne challenge convention\, embracing the immediacy and intimacy of the moment. For the artist\, photography is not about the tools but about capturing the essence of a fleeting experience: the light\, the texture\, the feeling of being immersed in paradise.
URL:https://biscaynenaturecenter.org/calendar/dafne-heinzmann-ethereal-moments-book-signing/
CATEGORIES:ART PROGRAMS,SPECIAL EVENTS
END:VEVENT
BEGIN:VEVENT
DTSTART;TZID=America/New_York:20251011T090000
DTEND;TZID=America/New_York:20251011T120000
DTSTAMP:20260424T062941
CREATED:20250909T150014Z
LAST-MODIFIED:20250909T151856Z
UID:10255-1760173200-1760184000@biscaynenaturecenter.org
SUMMARY:Planting Workshop with Master Gardeners
DESCRIPTION:
URL:https://biscaynenaturecenter.org/calendar/planting-workshop-with-master-gardeners/
CATEGORIES:GARDENING,SPECIAL EVENTS
END:VEVENT
BEGIN:VEVENT
DTSTART;TZID=America/New_York:20251004T150000
DTEND;TZID=America/New_York:20251004T170000
DTSTAMP:20260424T062941
CREATED:20250929T171644Z
LAST-MODIFIED:20251003T001921Z
UID:10309-1759590000-1759597200@biscaynenaturecenter.org
SUMMARY:Ode to Marjory with O\, Miami
DESCRIPTION:Join us for a hands-on workshop with O\, Miami  where you’ll write and paint postcards celebrating the beloved coastal sanctuary. \nThe finished postcards will be sent out to county commissioners and the mayor’s office in support of the Marjory Stoneman Douglas Biscayne Nature Center. \nThe event is free and open to the public. Please RSVP here. \nIf you can’t make it to this event\, we encourage you to take 5 minutes to write a brief letter in support of retaining our home and submit it here.
URL:https://biscaynenaturecenter.org/calendar/ode-to-marjory-with-o-miami/
CATEGORIES:ART PROGRAMS,SPECIAL EVENTS
END:VEVENT
BEGIN:VEVENT
DTSTART;TZID=America/New_York:20251004T140000
DTEND;TZID=America/New_York:20251004T170000
DTSTAMP:20260424T062941
CREATED:20250909T145627Z
LAST-MODIFIED:20250909T151527Z
UID:10253-1759586400-1759597200@biscaynenaturecenter.org
SUMMARY:Miami Watercolor Society Fall Exhibition & Awards Reception
DESCRIPTION:Join us for the Miami Watercolor Society’s Fall 51st Anniversary Exhibition and Awards Reception.  The exhibition is a juried program featuring members’ best work. See the magic of creating with watercolors! \nFree and open to the public.  The exhibit will be on display until Saturday\, November 1\, 2025.
URL:https://biscaynenaturecenter.org/calendar/miami-watercolor-society-fall-exhibition-awards-reception/
CATEGORIES:ART PROGRAMS,SPECIAL EVENTS
END:VEVENT
BEGIN:VEVENT
DTSTART;VALUE=DATE:20251004
DTEND;VALUE=DATE:20251214
DTSTAMP:20260424T062941
CREATED:20251022T174405Z
LAST-MODIFIED:20251022T174611Z
UID:10360-1759536000-1765670399@biscaynenaturecenter.org
SUMMARY:Miami Watercolor Society Fall Exhibition
DESCRIPTION:Join us for the Miami Watercolor Society’s Fall 51st Anniversary Exhibition.  The exhibition is a juried program featuring members’ best work. See the magic of creating with watercolors! \nFree and open to the public.  The exhibit will be on display through Saturday\, December 13\, 2025.
URL:https://biscaynenaturecenter.org/calendar/miami-watercolor-society-fall-exhibition/
CATEGORIES:ART PROGRAMS,SPECIAL EVENTS
END:VEVENT
BEGIN:VEVENT
DTSTART;TZID=America/New_York:20250920T090000
DTEND;TZID=America/New_York:20250920T120000
DTSTAMP:20260424T062941
CREATED:20250910T193950Z
LAST-MODIFIED:20250911T143433Z
UID:10265-1758358800-1758369600@biscaynenaturecenter.org
SUMMARY:International Coastal Cleanup
DESCRIPTION:Join us for the 40th anniversary of the International Coastal Cleanup\, the world’s largest\, one-day volunteer effort for our oceans and waterways\, and show your commitment to reducing marine debris\, along with millions of volunteers from across the globe! Help clean up the Environmentally Endangered Lands of Bear Cut Preserve. \nWhat should you bring? \n\nClosed toed shoes\nWater in a resuable bottle\nSunscreen\nInsect repellent\nGloves\nHat & sunglasses\n\nAdditional information and registration here.
URL:https://biscaynenaturecenter.org/calendar/international-coastal-cleanup/
CATEGORIES:SPECIAL EVENTS,VOLUNTEERING
END:VEVENT
BEGIN:VEVENT
DTSTART;TZID=America/New_York:20250913T140000
DTEND;TZID=America/New_York:20250913T170000
DTSTAMP:20260424T062941
CREATED:20250905T144622Z
LAST-MODIFIED:20250909T151719Z
UID:10221-1757772000-1757782800@biscaynenaturecenter.org
SUMMARY:A Day of Art & Celebration Featuring Xavier Cortada and Purvis Young
DESCRIPTION:50th Anniversary of Biscayne Bay Aquatic Preserves \nJoin us in celebrating and taking part in Xavier Cortada’s eco-art project\, Seahorse Society\, dedicated to protecting our threatened seagrass meadows. \nAnd\, don’t miss your last chance to view our extraordinary exhibit of Purvis Young‘s iconic paintings! \nThe event is free and open to the public. See invitation.
URL:https://biscaynenaturecenter.org/calendar/purvis-young-xavier-cortada/
CATEGORIES:ART PROGRAMS,SPECIAL EVENTS
END:VEVENT
BEGIN:VEVENT
DTSTART;TZID=America/New_York:20240908T090000
DTEND;TZID=America/New_York:20240908T160000
DTSTAMP:20260424T062941
CREATED:20240510T171948Z
LAST-MODIFIED:20240510T172010Z
UID:9909-1725786000-1725811200@biscaynenaturecenter.org
SUMMARY:SPECIAL EVENT - Grandparent's Day
DESCRIPTION:All day activities for Grandparent’s Day
URL:https://biscaynenaturecenter.org/calendar/special-event-grandparents-day/
CATEGORIES:FIELD EXPEDITIONS,SPECIAL EVENTS
END:VEVENT
BEGIN:VEVENT
DTSTART;TZID=America/New_York:20240518T090000
DTEND;TZID=America/New_York:20240518T150000
DTSTAMP:20260424T062941
CREATED:20240509T135436Z
LAST-MODIFIED:20240509T135436Z
UID:9809-1716022800-1716044400@biscaynenaturecenter.org
SUMMARY:SPECIAL EVENT: Turtle Palooza
DESCRIPTION:Turtle Palooza Festival\, 9–3pm
URL:https://biscaynenaturecenter.org/calendar/special-event-turtle-palooza/
CATEGORIES:FIELD EXPEDITIONS,SPECIAL EVENTS
END:VEVENT
BEGIN:VEVENT
DTSTART;TZID=America/New_York:20240512T090000
DTEND;TZID=America/New_York:20240512T110000
DTSTAMP:20260424T062941
CREATED:20240509T134345Z
LAST-MODIFIED:20240509T135206Z
UID:9805-1715504400-1715511600@biscaynenaturecenter.org
SUMMARY:SPECIAL EVENT - Mother's Day!
DESCRIPTION:Mother’s Day Nature Walk\, 9am – 11am
URL:https://biscaynenaturecenter.org/calendar/mothers-day-nature-walk/
CATEGORIES:FIELD EXPEDITIONS,SPECIAL EVENTS
END:VEVENT
BEGIN:VEVENT
DTSTART;VALUE=DATE:20240422
DTEND;VALUE=DATE:20240423
DTSTAMP:20260424T062941
CREATED:20211016T233034Z
LAST-MODIFIED:20231005T192737Z
UID:9260-1713744000-1713830399@biscaynenaturecenter.org
SUMMARY:Earth Day Celebration!
DESCRIPTION:Join us for a family-friendly Earth Day Celebration!
URL:https://biscaynenaturecenter.org/calendar/earth-day-celebration/
LOCATION:Marjory Stoneman Douglas Biscayne Nature Center\, 6767 Crandon Blvd\, Key Biscayne\, Florida\, 33149
CATEGORIES:SPECIAL EVENTS
END:VEVENT
END:VCALENDAR