BEGIN:VCALENDAR
VERSION:2.0
PRODID:-//Marjory Stoneman Douglas Biscayne Nature Center - ECPv6.15.17.1//NONSGML v1.0//EN
CALSCALE:GREGORIAN
METHOD:PUBLISH
X-ORIGINAL-URL:https://biscaynenaturecenter.org
X-WR-CALDESC:Events for Marjory Stoneman Douglas Biscayne Nature Center
REFRESH-INTERVAL;VALUE=DURATION:PT1H
X-Robots-Tag:noindex
X-PUBLISHED-TTL:PT1H
BEGIN:VTIMEZONE
TZID:America/New_York
BEGIN:DAYLIGHT
TZOFFSETFROM:-0500
TZOFFSETTO:-0400
TZNAME:EDT
DTSTART:20250309T070000
END:DAYLIGHT
BEGIN:STANDARD
TZOFFSETFROM:-0400
TZOFFSETTO:-0500
TZNAME:EST
DTSTART:20251102T060000
END:STANDARD
BEGIN:DAYLIGHT
TZOFFSETFROM:-0500
TZOFFSETTO:-0400
TZNAME:EDT
DTSTART:20260308T070000
END:DAYLIGHT
BEGIN:STANDARD
TZOFFSETFROM:-0400
TZOFFSETTO:-0500
TZNAME:EST
DTSTART:20261101T060000
END:STANDARD
BEGIN:DAYLIGHT
TZOFFSETFROM:-0500
TZOFFSETTO:-0400
TZNAME:EDT
DTSTART:20270314T070000
END:DAYLIGHT
BEGIN:STANDARD
TZOFFSETFROM:-0400
TZOFFSETTO:-0500
TZNAME:EST
DTSTART:20271107T060000
END:STANDARD
END:VTIMEZONE
BEGIN:VEVENT
DTSTART;TZID=America/New_York:20260418T110000
DTEND;TZID=America/New_York:20260418T140000
DTSTAMP:20260424T045534
CREATED:20260408T204700Z
LAST-MODIFIED:20260416T161056Z
UID:10514-1776510000-1776520800@biscaynenaturecenter.org
SUMMARY:POSTPONED! Meet the Artist Opening Reception: Jacqueline Roch
DESCRIPTION:Join our BNC artist in residence Jacqueline Roch as we open her new exhibit\, Botanical Breeze. Layering pastels to create complex colors\, Jacqueline is able to achieve a quality that’s reminiscent of an oil painting. Her work is highly distinctive with bold color choices and contrasts – best described as “tropical realism.” \nRSVP for the reception and stay for the plein aire event immediately following!  All mediums\, all skill levels are welcome to paint out in our vibrant natural environment. \nBoth event are free and open to the public.
URL:https://biscaynenaturecenter.org/calendar/meet-the-artist-opening-reception-jacqueline-roch/
CATEGORIES:ART PROGRAMS,SPECIAL EVENTS
END:VEVENT
END:VCALENDAR